BEGIN:VCALENDAR
VERSION:2.0
PRODID:-//Boating Ontario Association//Silkstart Technology Inc.//
BEGIN:VTIMEZONE
TZID:Canada/Eastern
BEGIN:DAYLIGHT
DTSTART;VALUE=DATE-TIME:20260308T020000
TZNAME:EDT
TZOFFSETFROM:-0500
TZOFFSETTO:-0400
END:DAYLIGHT
BEGIN:STANDARD
DTSTART;VALUE=DATE-TIME:20261101T020000
TZNAME:EST
TZOFFSETFROM:-0400
TZOFFSETTO:-0500
END:STANDARD
END:VTIMEZONE
BEGIN:VEVENT
SUMMARY:Toronto International Boat Show 
DTSTART;TZID=Canada/Eastern;VALUE=DATE-TIME:20180113T100000
DTEND;TZID=Canada/Eastern;VALUE=DATE-TIME:20180121T180000
DTSTAMP;VALUE=DATE-TIME:20171207T205111
UID:5a29a9bf893aaa0b9c157cfd
DESCRIPTION:Toronto International Boat Show January 12 to 21\, 2018 Show 
 Hours Saturdays (13 &amp\; 20) 10am to 7pm Sundays (14 &amp\; 21) 10am to 
 6pm Weekdays (15 &ndash\; 19) 11am to 8pm Preview Day: Friday\, January 
 12\, 2pm - 8pm Don&rsquo\;t miss this all-inclusive unique experience\, it
  is by far the best day to shop the show without the crowds and an ideal 
 day to talk with exhibitors and tour the boats! 2 tiered ticket price 
 option to suit your needs. BUY TICKETS NOW! Show Location The Toronto 
 International Boat Show takes place at the Enercare Centre\, Exhibition 
 Place: 100 PRINCES&#39\; BLVD.\, TORONTO\, ON M6K 3C3 Visit the official 
 Toronto Boat Show website for all details. 
LOCATION:Enercare Centre\, Exhibition Place 
PRIORITY:5
URL:https://www.boatingontario.ca:443/events/toronto-international-boat-
 show
END:VEVENT
END:VCALENDAR
